BEGIN:VCALENDAR
VERSION:2.0
PRODID:-//Oregon Council of Fly Fishers International - ECPv6.15.20//NONSGML v1.0//EN
CALSCALE:GREGORIAN
METHOD:PUBLISH
X-WR-CALNAME:Oregon Council of Fly Fishers International
X-ORIGINAL-URL:https://orcffi.org
X-WR-CALDESC:Events for Oregon Council of Fly Fishers International
REFRESH-INTERVAL;VALUE=DURATION:PT1H
X-Robots-Tag:noindex
X-PUBLISHED-TTL:PT1H
BEGIN:VTIMEZONE
TZID:America/Denver
BEGIN:DAYLIGHT
TZOFFSETFROM:-0700
TZOFFSETTO:-0600
TZNAME:MDT
DTSTART:20240310T090000
END:DAYLIGHT
BEGIN:STANDARD
TZOFFSETFROM:-0600
TZOFFSETTO:-0700
TZNAME:MST
DTSTART:20241103T080000
END:STANDARD
BEGIN:DAYLIGHT
TZOFFSETFROM:-0700
TZOFFSETTO:-0600
TZNAME:MDT
DTSTART:20250309T090000
END:DAYLIGHT
BEGIN:STANDARD
TZOFFSETFROM:-0600
TZOFFSETTO:-0700
TZNAME:MST
DTSTART:20251102T080000
END:STANDARD
BEGIN:DAYLIGHT
TZOFFSETFROM:-0700
TZOFFSETTO:-0600
TZNAME:MDT
DTSTART:20260308T090000
END:DAYLIGHT
BEGIN:STANDARD
TZOFFSETFROM:-0600
TZOFFSETTO:-0700
TZNAME:MST
DTSTART:20261101T080000
END:STANDARD
END:VTIMEZONE
BEGIN:VEVENT
DTSTART;TZID=America/Denver:20250308T130000
DTEND;TZID=America/Denver:20250308T140000
DTSTAMP:20260421T084848
CREATED:20250124T175400Z
LAST-MODIFIED:20250128T164810Z
UID:10000029-1741438800-1741442400@orcffi.org
SUMMARY:Casting Classes Saturday March 8th - CD-SP-S4
DESCRIPTION:Location: Spey PondClass Number: CD-SP-S4Number of students: 2Instructor: Jon Connelly \n\n \n 
URL:https://orcffi.org/event/casting-classes-friday-march-7th-cd-sp-s4/
LOCATION:Spey Pond
CATEGORIES:Placeholder Event
END:VEVENT
BEGIN:VEVENT
DTSTART;TZID=America/Denver:20250308T120000
DTEND;TZID=America/Denver:20250308T130000
DTSTAMP:20260421T084848
CREATED:20250124T175231Z
LAST-MODIFIED:20250128T165149Z
UID:10000028-1741435200-1741438800@orcffi.org
SUMMARY:Casting Classes Saturday March 8th - CD-SP-S3
DESCRIPTION:Location: Spey PondClass Number: CD-SP-S3Number of students: 2Instructor: Jon Connelly \n\n \n 
URL:https://orcffi.org/event/casting-classes-friday-march-7th-cd-sp-s3/
LOCATION:Spey Pond
CATEGORIES:Placeholder Event
END:VEVENT
BEGIN:VEVENT
DTSTART;TZID=America/Denver:20250308T110000
DTEND;TZID=America/Denver:20250308T120000
DTSTAMP:20260421T084848
CREATED:20250124T175149Z
LAST-MODIFIED:20250128T165246Z
UID:10000027-1741431600-1741435200@orcffi.org
SUMMARY:Casting Classes Saturday March 8th - CD-SP-S2
DESCRIPTION:Location: Spey PondClass Number: CD-SP-S2Number of students: 3Instructor: Al Buhr \n\n \n 
URL:https://orcffi.org/event/casting-classes-friday-march-7th-cd-sp-s2/
LOCATION:Spey Pond
CATEGORIES:Placeholder Event
END:VEVENT
BEGIN:VEVENT
DTSTART;TZID=America/Denver:20250308T100000
DTEND;TZID=America/Denver:20250308T110000
DTSTAMP:20260421T084848
CREATED:20250124T174605Z
LAST-MODIFIED:20250128T165602Z
UID:10000022-1741428000-1741431600@orcffi.org
SUMMARY:Casting Classes Saturday March 8th - CD-SP-S1
DESCRIPTION:Location: Spey PondClass Number: CD-SP-S1Number of students: 3Instructor: Al Buhr \n\n \n 
URL:https://orcffi.org/event/casting-classes-friday-march-7th-cd-sp-s1/
LOCATION:Spey Pond
CATEGORIES:Placeholder Event
END:VEVENT
BEGIN:VEVENT
DTSTART;TZID=America/Denver:20250307T130000
DTEND;TZID=America/Denver:20250307T140000
DTSTAMP:20260421T084848
CREATED:20250124T173718Z
LAST-MODIFIED:20250128T170007Z
UID:10000014-1741352400-1741356000@orcffi.org
SUMMARY:Casting Classes Friday March 7th - CD-SP-F4
DESCRIPTION:Location: Spey PondClass Number: CD-SP-F4Number of students: 2Instructor: Jon Connelly \n\n \n 
URL:https://orcffi.org/event/casting-classes-friday-march-7th-cd-sp-f4/
LOCATION:Spey Pond
CATEGORIES:Placeholder Event
END:VEVENT
BEGIN:VEVENT
DTSTART;TZID=America/Denver:20250307T120000
DTEND;TZID=America/Denver:20250307T130000
DTSTAMP:20260421T084848
CREATED:20250124T173715Z
LAST-MODIFIED:20250128T170129Z
UID:10000013-1741348800-1741352400@orcffi.org
SUMMARY:Casting Classes Friday March 7th - CD-SP-F3
DESCRIPTION:Location: Spey PondClass Number: CD-SP-F3Number of students: 2Instructor: Jon Connelly \n\n \n 
URL:https://orcffi.org/event/casting-classes-friday-march-7th-cd-sp-f3/
LOCATION:Spey Pond
CATEGORIES:Placeholder Event
END:VEVENT
BEGIN:VEVENT
DTSTART;TZID=America/Denver:20250307T110000
DTEND;TZID=America/Denver:20250307T120000
DTSTAMP:20260421T084848
CREATED:20250124T173347Z
LAST-MODIFIED:20250128T170215Z
UID:10000012-1741345200-1741348800@orcffi.org
SUMMARY:Casting Classes Friday March 7th - CD-SP-F2
DESCRIPTION:Location: Spey PondClass Number: CD-SP-F2Number of students: 2Instructor: James Gruetzman \n\n \n 
URL:https://orcffi.org/event/casting-classes-friday-march-7th-cd-sp-f2/
LOCATION:Spey Pond
CATEGORIES:Placeholder Event
END:VEVENT
BEGIN:VEVENT
DTSTART;TZID=America/Denver:20250307T100000
DTEND;TZID=America/Denver:20250307T110000
DTSTAMP:20260421T084848
CREATED:20250124T173239Z
LAST-MODIFIED:20250128T170428Z
UID:10000011-1741341600-1741345200@orcffi.org
SUMMARY:Casting Classes Friday March 7th - CD-SP-F1
DESCRIPTION:Location: Spey PondClass Number: CD-SP-F1Number of students: 2Instructor: James Gruetzman \n\n \n 
URL:https://orcffi.org/event/casting-classes-friday-march-7th-cd-sp-f1/
LOCATION:Spey Pond
CATEGORIES:Placeholder Event
END:VEVENT
END:VCALENDAR