BEGIN:VCALENDAR
VERSION:2.0
PRODID:-//Oregon Council of Fly Fishers International - ECPv6.15.20//NONSGML v1.0//EN
CALSCALE:GREGORIAN
METHOD:PUBLISH
X-ORIGINAL-URL:https://orcffi.org
X-WR-CALDESC:Events for Oregon Council of Fly Fishers International
REFRESH-INTERVAL;VALUE=DURATION:PT1H
X-Robots-Tag:noindex
X-PUBLISHED-TTL:PT1H
BEGIN:VTIMEZONE
TZID:America/Denver
BEGIN:DAYLIGHT
TZOFFSETFROM:-0700
TZOFFSETTO:-0600
TZNAME:MDT
DTSTART:20240310T090000
END:DAYLIGHT
BEGIN:STANDARD
TZOFFSETFROM:-0600
TZOFFSETTO:-0700
TZNAME:MST
DTSTART:20241103T080000
END:STANDARD
BEGIN:DAYLIGHT
TZOFFSETFROM:-0700
TZOFFSETTO:-0600
TZNAME:MDT
DTSTART:20250309T090000
END:DAYLIGHT
BEGIN:STANDARD
TZOFFSETFROM:-0600
TZOFFSETTO:-0700
TZNAME:MST
DTSTART:20251102T080000
END:STANDARD
BEGIN:DAYLIGHT
TZOFFSETFROM:-0700
TZOFFSETTO:-0600
TZNAME:MDT
DTSTART:20260308T090000
END:DAYLIGHT
BEGIN:STANDARD
TZOFFSETFROM:-0600
TZOFFSETTO:-0700
TZNAME:MST
DTSTART:20261101T080000
END:STANDARD
END:VTIMEZONE
BEGIN:VEVENT
DTSTART;TZID=America/Denver:20250308T153000
DTEND;TZID=America/Denver:20250308T160000
DTSTAMP:20260421T085813
CREATED:20250124T174427Z
LAST-MODIFIED:20250128T162848Z
UID:10000021-1741447800-1741449600@orcffi.org
SUMMARY:Casting Classes Saturday March 8th - CD-SH-S6
DESCRIPTION:Location: Casting Lane 1Class Number: CD-SH-S6Number of students: 1Instructor: Jon Connelly \n\n 
URL:https://orcffi.org/event/casting-classes-saturday-march-8th-cd-sh-s6/
LOCATION:Casting Lane 1
CATEGORIES:Placeholder Event
END:VEVENT
BEGIN:VEVENT
DTSTART;TZID=America/Denver:20250308T150000
DTEND;TZID=America/Denver:20250308T153000
DTSTAMP:20260421T085813
CREATED:20250124T174425Z
LAST-MODIFIED:20250128T163046Z
UID:10000020-1741446000-1741447800@orcffi.org
SUMMARY:Casting Classes Saturday March 8th - CD-SH-S5
DESCRIPTION:Location: Casting Lane 1Class Number: CD-SH-S5Number of students: 1Instructor: Jon Connelly \n\n 
URL:https://orcffi.org/event/casting-classes-saturday-march-8th-cd-sh-s5/
LOCATION:Casting Lane 1
CATEGORIES:Placeholder Event
END:VEVENT
BEGIN:VEVENT
DTSTART;TZID=America/Denver:20250308T133000
DTEND;TZID=America/Denver:20250308T140000
DTSTAMP:20260421T085813
CREATED:20250124T174421Z
LAST-MODIFIED:20250128T164611Z
UID:10000019-1741440600-1741442400@orcffi.org
SUMMARY:Casting Classes Saturday March 8th - CD-SH-S4
DESCRIPTION:Location: Casting Lane 1Class Number: CD-SH-S4Number of students: 1Instructor: James Gruetzman \n\n 
URL:https://orcffi.org/event/casting-classes-saturday-march-8th-cd-sh-s4/
LOCATION:Casting Lane 1
CATEGORIES:Placeholder Event
END:VEVENT
BEGIN:VEVENT
DTSTART;TZID=America/Denver:20250308T130000
DTEND;TZID=America/Denver:20250308T133000
DTSTAMP:20260421T085813
CREATED:20250124T174416Z
LAST-MODIFIED:20250128T164955Z
UID:10000018-1741438800-1741440600@orcffi.org
SUMMARY:Casting Classes Saturday March 8th - CD-SH-S3
DESCRIPTION:Location: Casting Lane 1Class Number: CD-SH-S3Number of students: 1Instructor: James Gruetzman \n\n 
URL:https://orcffi.org/event/casting-classes-saturday-march-8th-cd-sh-s3/
LOCATION:Casting Lane 1
CATEGORIES:Placeholder Event
END:VEVENT
BEGIN:VEVENT
DTSTART;TZID=America/Denver:20250308T110000
DTEND;TZID=America/Denver:20250308T113000
DTSTAMP:20260421T085813
CREATED:20250124T174414Z
LAST-MODIFIED:20250128T165337Z
UID:10000017-1741431600-1741433400@orcffi.org
SUMMARY:Casting Classes Saturday March 8th - CD-SH-S2
DESCRIPTION:Location: Casting Lane 1Class Number: CD-SH-S2Number of students: 1Instructor: Dwight Klemin \n\n 
URL:https://orcffi.org/event/casting-classes-saturday-march-8th-cd-sh-s2/
LOCATION:Casting Lane 1
CATEGORIES:Placeholder Event
END:VEVENT
BEGIN:VEVENT
DTSTART;TZID=America/Denver:20250308T103000
DTEND;TZID=America/Denver:20250308T110000
DTSTAMP:20260421T085813
CREATED:20250124T174001Z
LAST-MODIFIED:20250128T165512Z
UID:10000016-1741429800-1741431600@orcffi.org
SUMMARY:Casting Classes Saturday March 8th - CD-SH-S1
DESCRIPTION:Location: Casting Lane 1Class Number: CD-SH-S1Number of students: 1Instructor: Dwight Klemin \n\n 
URL:https://orcffi.org/event/casting-classes-saturday-march-8th-cd-sh-s1/
LOCATION:Casting Lane 1
CATEGORIES:Placeholder Event
END:VEVENT
BEGIN:VEVENT
DTSTART;TZID=America/Denver:20250307T153000
DTEND;TZID=America/Denver:20250307T160000
DTSTAMP:20260421T085813
CREATED:20250124T173055Z
LAST-MODIFIED:20250128T165707Z
UID:10000010-1741361400-1741363200@orcffi.org
SUMMARY:Casting Classes Friday March 7th - CD-SH-F6
DESCRIPTION:Location: Casting Lane 1Class Number: CD-SH-F6Number of students: 1Instructor: Jon Connelly \n\n \n 
URL:https://orcffi.org/event/casting-classes-friday-march-7th-cd-sh-f6/
LOCATION:Casting Lane 1
CATEGORIES:Placeholder Event
END:VEVENT
BEGIN:VEVENT
DTSTART;TZID=America/Denver:20250307T150000
DTEND;TZID=America/Denver:20250307T153000
DTSTAMP:20260421T085813
CREATED:20250124T172957Z
LAST-MODIFIED:20250128T165756Z
UID:10000009-1741359600-1741361400@orcffi.org
SUMMARY:Casting Classes Friday March 7th - CD-SH-F5
DESCRIPTION:Location: Casting Lane 1Class Number: CD-SH-F5Number of students: 1Instructor: Jon Connelly \n\n \n 
URL:https://orcffi.org/event/casting-classes-friday-march-7th-cd-sh-f5/
LOCATION:Casting Lane 1
CATEGORIES:Placeholder Event
END:VEVENT
BEGIN:VEVENT
DTSTART;TZID=America/Denver:20250307T133000
DTEND;TZID=America/Denver:20250307T140000
DTSTAMP:20260421T085813
CREATED:20250124T172839Z
LAST-MODIFIED:20250128T165931Z
UID:10000008-1741354200-1741356000@orcffi.org
SUMMARY:Casting Classes Friday March 7th - CD-SH-F4
DESCRIPTION:Location: Casting Lane 1Class Number: CD-SH-F4Number of students: 1Instructor: James Gruetzman \n\n \n 
URL:https://orcffi.org/event/casting-classes-friday-march-7th-cd-sh-f4/
LOCATION:Casting Lane 1
CATEGORIES:Placeholder Event
END:VEVENT
BEGIN:VEVENT
DTSTART;TZID=America/Denver:20250307T130000
DTEND;TZID=America/Denver:20250307T133000
DTSTAMP:20260421T085813
CREATED:20250124T172706Z
LAST-MODIFIED:20250128T170047Z
UID:10000007-1741352400-1741354200@orcffi.org
SUMMARY:Casting Classes Friday March 7th - CD-SH-F3
DESCRIPTION:Location: Casting Lane 1Class Number: CD-SH-F3Number of students: 1Instructor: James Gruetzman \n\n \n 
URL:https://orcffi.org/event/casting-classes-friday-march-7th-cd-sh-f3/
LOCATION:Casting Lane 1
CATEGORIES:Placeholder Event
END:VEVENT
BEGIN:VEVENT
DTSTART;TZID=America/Denver:20250307T110000
DTEND;TZID=America/Denver:20250307T113000
DTSTAMP:20260421T085813
CREATED:20250124T172241Z
LAST-MODIFIED:20250128T170252Z
UID:10000006-1741345200-1741347000@orcffi.org
SUMMARY:Casting Classes Friday March 7th - CD-SH-F2
DESCRIPTION:Location: Casting Lane 1Class Number: CD-SH-F2Number of students: 1Instructor: Dwight Klemin \n\n \n 
URL:https://orcffi.org/event/casting-classes-friday-march-7th-cd-sh-f2/
LOCATION:Casting Lane 1
CATEGORIES:Placeholder Event
END:VEVENT
BEGIN:VEVENT
DTSTART;TZID=America/Denver:20250307T103000
DTEND;TZID=America/Denver:20250307T110000
DTSTAMP:20260421T085813
CREATED:20240612T041930Z
LAST-MODIFIED:20250128T170348Z
UID:10000004-1741343400-1741345200@orcffi.org
SUMMARY:Casting Classes Friday March 7th - CD-SH-F1
DESCRIPTION:Location: Casting Lane 1Class Number: CD-SH-F1Number of students: 1Instructor: Dwight Klemin \n\n \n 
URL:https://orcffi.org/event/classes-coming-soon/
LOCATION:Casting Lane 1
CATEGORIES:Placeholder Event
END:VEVENT
END:VCALENDAR