BEGIN:VCALENDAR
VERSION:2.0
PRODID:-//Oregon Council of Fly Fishers International - ECPv6.15.20//NONSGML v1.0//EN
CALSCALE:GREGORIAN
METHOD:PUBLISH
X-WR-CALNAME:Oregon Council of Fly Fishers International
X-ORIGINAL-URL:https://orcffi.org
X-WR-CALDESC:Events for Oregon Council of Fly Fishers International
REFRESH-INTERVAL;VALUE=DURATION:PT1H
X-Robots-Tag:noindex
X-PUBLISHED-TTL:PT1H
BEGIN:VTIMEZONE
TZID:America/Denver
BEGIN:DAYLIGHT
TZOFFSETFROM:-0700
TZOFFSETTO:-0600
TZNAME:MDT
DTSTART:20240310T090000
END:DAYLIGHT
BEGIN:STANDARD
TZOFFSETFROM:-0600
TZOFFSETTO:-0700
TZNAME:MST
DTSTART:20241103T080000
END:STANDARD
BEGIN:DAYLIGHT
TZOFFSETFROM:-0700
TZOFFSETTO:-0600
TZNAME:MDT
DTSTART:20250309T090000
END:DAYLIGHT
BEGIN:STANDARD
TZOFFSETFROM:-0600
TZOFFSETTO:-0700
TZNAME:MST
DTSTART:20251102T080000
END:STANDARD
BEGIN:DAYLIGHT
TZOFFSETFROM:-0700
TZOFFSETTO:-0600
TZNAME:MDT
DTSTART:20260308T090000
END:DAYLIGHT
BEGIN:STANDARD
TZOFFSETFROM:-0600
TZOFFSETTO:-0700
TZNAME:MST
DTSTART:20261101T080000
END:STANDARD
BEGIN:DAYLIGHT
TZOFFSETFROM:-0700
TZOFFSETTO:-0600
TZNAME:MDT
DTSTART:20270314T090000
END:DAYLIGHT
BEGIN:STANDARD
TZOFFSETFROM:-0600
TZOFFSETTO:-0700
TZNAME:MST
DTSTART:20271107T080000
END:STANDARD
END:VTIMEZONE
BEGIN:VEVENT
DTSTART;TZID=America/Denver:20260313T170000
DTEND;TZID=America/Denver:20260313T210000
DTSTAMP:20260421T100317
CREATED:20260202T141028Z
LAST-MODIFIED:20260210T232110Z
UID:10000043-1773421200-1773435600@orcffi.org
SUMMARY:Banquet Tickets
DESCRIPTION:Banquet Menu – Expo 2026 \n\nMeat Lasagna\nBacon Ranch Chicken over Roasted Potatoes\nVegan Shepherd’s Pie (4 servings available)\nCaesar Salad with croutons and dressings on the side\nRolls with butter\nAssorted dessert bars and cookies\nCoffee\, Strawberry Lemonade\, and Iced Water with cups and condiments\n\nAdditional Details: \n\nNo‑Host Bar\nAwards Ceremony\nLive Auction with auctioneer Will Godfrey\nOnline ticket sales close March 5\, 2026 at 10am\nA limited number of banquet tickets will be available Friday morning on a first‑come\, first‑served basis
URL:https://orcffi.org/event/banquet-tickets/
END:VEVENT
BEGIN:VEVENT
DTSTART;TZID=America/Denver:20260313T130000
DTEND;TZID=America/Denver:20260313T150000
DTSTAMP:20260421T100317
CREATED:20260206T210134Z
LAST-MODIFIED:20260213T050539Z
UID:10000051-1773406800-1773414000@orcffi.org
SUMMARY:Class # F42 1:00PM – 3:00PM Classroom 4  Fee: Free Seats= 30 Students
DESCRIPTION:FFI Fly Tying Instructor Program – Dutch Baughman & Jack Gillis \nFly Fishers International (FFI) Fly Tyers Group (FTG) \nThe FFI Fly Tying Group has developed a very special Program to help fly tiers become better fly tying instructors. This program will be presented by Dutch Baughman\, Chair\, FFI Fly Tying Instructor Program. The Program provides a wealth of high-quality fly tying instructional resources free of charge\, to all fly tyers. The Program also provides an opportunity for a Fly Tying Instructor to pursue 2 of 3 recognition as an Endorsed Fly Tying Instructor from the FTG Board of Governors. The NW Fly Tying Expo will host a special workshop introducing the complete Fly Tying Instructor Program\, presented by Dutch Baughman\, Chair\, Fly Tying Instructor Program. “Walk-ins” are welcome to attend\, and the workshop is free\, but to help us assure we have enough Program Materials to hand out\, please register for the workshop.
URL:https://orcffi.org/event/class-f42/
CATEGORIES:Placeholder Event
END:VEVENT
BEGIN:VEVENT
DTSTART;TZID=America/Denver:20260313T130000
DTEND;TZID=America/Denver:20260313T150000
DTSTAMP:20260421T100317
CREATED:20260206T205618Z
LAST-MODIFIED:20260206T220000Z
UID:10000048-1773406800-1773414000@orcffi.org
SUMMARY:Class # F13 1:00PM-3:00PM Classroom 3  Fee: $15.00 Seats = 10 Students
DESCRIPTION:Tying the Expo 2026 Signature Fly – John Kreft\n\n\nJohn Kreft will be teaching his RiverKeeper Soft Hackle Cripple. \nThis fly pattern is designed to imitate a mayfly cripple; a mayfly whose wings are a silhouette of the wing on the surface film or “stuck” during emergence. John will also be covering the details of how to fish this fly. \nClass is for Experienced Tyers. Bring vise\, tools\, thread. Other materials provided.
URL:https://orcffi.org/event/class-f13/
END:VEVENT
BEGIN:VEVENT
DTSTART;TZID=America/Denver:20260313T113000
DTEND;TZID=America/Denver:20260313T130000
DTSTAMP:20260421T100317
CREATED:20260206T205117Z
LAST-MODIFIED:20260206T213311Z
UID:10000047-1773401400-1773406800@orcffi.org
SUMMARY:Class #F22 11:30AM-1:00PM Classroom 2  Fee: #15.00 Seats = 30 Students
DESCRIPTION:Contact (Euro) Nymphing – Tim Quinton\n\n\nTim will cover the background\, basics\, and how to get started in this very effective form of nymphing.  We’ll dive into the equipment requirements and techniques necessary for successful Contact Nymphing.
URL:https://orcffi.org/event/f22/
END:VEVENT
BEGIN:VEVENT
DTSTART;TZID=America/Denver:20260313T113000
DTEND;TZID=America/Denver:20260313T130000
DTSTAMP:20260421T100317
CREATED:20260206T203747Z
LAST-MODIFIED:20260206T212956Z
UID:10000045-1773401400-1773406800@orcffi.org
SUMMARY:Class #F12 11:30 AM-1:00 PM Classroom 1  Fee: Free Presentation Seats = 30 students
DESCRIPTION:Women Connect – Robin Healy \nWomen Getting together with lunch snacks included. \nRobin Healy will be leading this get together and presenting an overview of the FFI Women Connect and more.
URL:https://orcffi.org/event/class-f12/
END:VEVENT
BEGIN:VEVENT
DTSTART;TZID=America/Denver:20260313T093000
DTEND;TZID=America/Denver:20260313T110000
DTSTAMP:20260421T100317
CREATED:20260206T205423Z
LAST-MODIFIED:20260206T213507Z
UID:10000049-1773394200-1773399600@orcffi.org
SUMMARY:Class #F31 9:30AM-11:00AM Classroom 3 Fee -$15.00 Seats=15 students
DESCRIPTION:Tying Michael T’s Percolator – Michael T\, Williams\n\n\nDemonstrates/instructs many basic skills in the process of tying a well-proven pattern.\nMichael T’s Percolator has caught 18 species of fish since inception 25 years ago.\nInstructor will provide all materials necessary for class…..limited to 15 Students.\nMichael T Williams has been a feather mechanic for 71 years. \n\nof nymphing.  We’ll dive into the equipment requirements and techniques necessary for successful Contact Nymphing.
URL:https://orcffi.org/event/class-f31/
END:VEVENT
BEGIN:VEVENT
DTSTART;TZID=America/Denver:20260313T093000
DTEND;TZID=America/Denver:20260313T110000
DTSTAMP:20260421T100317
CREATED:20260206T204916Z
LAST-MODIFIED:20260206T213213Z
UID:10000046-1773394200-1773399600@orcffi.org
SUMMARY:Class #F21 9:30AM-11:00AM Classroom 2Fee -$15.00 Seats = 6 students
DESCRIPTION:Dry Fly Tying – Mark McKenzie\n\n\nMark will step you through Tying Effective Dry Files for Western Rivers \nIntermediate to advanced tyers\, bring your own vices & tools\, all materials will be supplied. Blue Wing Olive (Thread body\, Split tailed dry fly with unique materials)
URL:https://orcffi.org/event/f21/
END:VEVENT
BEGIN:VEVENT
DTSTART;TZID=America/Denver:20260313T093000
DTEND;TZID=America/Denver:20260313T110000
DTSTAMP:20260421T100317
CREATED:20260206T202529Z
LAST-MODIFIED:20260206T212736Z
UID:10000044-1773394200-1773399600@orcffi.org
SUMMARY:Class #F11 9:30AM-11:00AM Classroom 1 Fee -$15.00 Seats = 30 students
DESCRIPTION:The Art and Science of Reading Stillwater -Mark Williamson \nI will discuss the components/parts of Stillwater\, levels/depths of water\, definitions\, and components of the different zones.  I also look at different issues regarding fish such as sound smell\, taste\, color will affect fishing. I will share different keys when looking out over a vast piece of water. Things like drop-offs\, springs\, foam-lines and more.  I will explain the “Black Hole Syndrome” This presentation will enlighten you on many of the things that you may have heard regarding Stillwater.
URL:https://orcffi.org/event/class-f11/
END:VEVENT
BEGIN:VEVENT
DTSTART;TZID=America/Denver:20250313T213000
DTEND;TZID=America/Denver:20250313T213000
DTSTAMP:20260421T100317
CREATED:20260206T205946Z
LAST-MODIFIED:20260206T213839Z
UID:10000050-1741901400-1741901400@orcffi.org
SUMMARY:Class #F41 9:30AM-12:30 Classroom 4Fee -$15.00 Seats = 5 students
DESCRIPTION:Saltwater Fly Tying – Lenny Moffo\n\n\nI guided full time for 33 years in the Florida Keys. I was asked to do a class on Salt Water Fly Tying.  Many of the flies that I tie can be used here in Oregon. Bring your own vise\, tools\, 2 bobbins\, Materials will be supplied. \nMaybe you’re planning a trip to a destination. My proposal is that if you’re interested in this class you call me or text me ahead of time and let me know what you would like to learn. So we don’t waste time. \nCapt. Lenny…  (305) 395-1537 lennymoffo@gmail.com
URL:https://orcffi.org/event/f41/
CATEGORIES:Placeholder Event
END:VEVENT
BEGIN:VEVENT
DTSTART;TZID=America/Denver:20250308T153000
DTEND;TZID=America/Denver:20250308T160000
DTSTAMP:20260421T100317
CREATED:20250124T174427Z
LAST-MODIFIED:20250128T162848Z
UID:10000021-1741447800-1741449600@orcffi.org
SUMMARY:Casting Classes Saturday March 8th - CD-SH-S6
DESCRIPTION:Location: Casting Lane 1Class Number: CD-SH-S6Number of students: 1Instructor: Jon Connelly \n\n 
URL:https://orcffi.org/event/casting-classes-saturday-march-8th-cd-sh-s6/
LOCATION:Casting Lane 1
CATEGORIES:Placeholder Event
END:VEVENT
BEGIN:VEVENT
DTSTART;TZID=America/Denver:20250308T150000
DTEND;TZID=America/Denver:20250308T153000
DTSTAMP:20260421T100317
CREATED:20250124T174425Z
LAST-MODIFIED:20250128T163046Z
UID:10000020-1741446000-1741447800@orcffi.org
SUMMARY:Casting Classes Saturday March 8th - CD-SH-S5
DESCRIPTION:Location: Casting Lane 1Class Number: CD-SH-S5Number of students: 1Instructor: Jon Connelly \n\n 
URL:https://orcffi.org/event/casting-classes-saturday-march-8th-cd-sh-s5/
LOCATION:Casting Lane 1
CATEGORIES:Placeholder Event
END:VEVENT
BEGIN:VEVENT
DTSTART;TZID=America/Denver:20250308T140000
DTEND;TZID=America/Denver:20250308T160000
DTSTAMP:20260421T100317
CREATED:20250124T175645Z
LAST-MODIFIED:20250224T181131Z
UID:10000030-1741442400-1741449600@orcffi.org
SUMMARY:Casting Classes Saturday March 8th - SH-SP-S1
DESCRIPTION:Location: Casting Lawn AreaClass Number: SH-SP-S1Number of students: 4Instructor: Dwight Klemin \nDescription: Single Hand Spey Cast – Learn the 4 basic spey casts. Casting skill needed is a solid dynamic roll cast. Equipment Provided. Meet instructor at the casting BOOTH #45.
URL:https://orcffi.org/event/casting-classes-friday-march-8th-sh-sp-s1/
LOCATION:Casting Lawn Area
CATEGORIES:Placeholder Event
END:VEVENT
BEGIN:VEVENT
DTSTART;TZID=America/Denver:20250308T133000
DTEND;TZID=America/Denver:20250308T153000
DTSTAMP:20260421T100317
CREATED:20250201T025602Z
LAST-MODIFIED:20250201T025602Z
UID:10000040-1741440600-1741447800@orcffi.org
SUMMARY:Classroom Classes
DESCRIPTION:Workshop – Lifecycle of the Midge – \nTying the Flies Demonstration – \nLearn how and when to fish them – \nopen to all levels of fishing & tying\, \nTying tools not required \nNumber of students: 40\nInstructor: Dick Rhoarbaugh
URL:https://orcffi.org/event/classroom-classes-10/
LOCATION:Classroom 3
CATEGORIES:Placeholder Event
END:VEVENT
BEGIN:VEVENT
DTSTART;TZID=America/Denver:20250308T133000
DTEND;TZID=America/Denver:20250308T150000
DTSTAMP:20260421T100317
CREATED:20250201T025238Z
LAST-MODIFIED:20250201T025238Z
UID:10000038-1741440600-1741446000@orcffi.org
SUMMARY:Classroom Classes
DESCRIPTION:Analysis of the Essentials of Fly Casting using modern technology \nFriday March 8th – Class #S13 \nNumber of students: 40\nInstructor: Beth Jappay
URL:https://orcffi.org/event/classroom-classes-8/
LOCATION:Classroom 1
CATEGORIES:Placeholder Event
END:VEVENT
BEGIN:VEVENT
DTSTART;TZID=America/Denver:20250308T133000
DTEND;TZID=America/Denver:20250308T140000
DTSTAMP:20260421T100317
CREATED:20250124T174421Z
LAST-MODIFIED:20250128T164611Z
UID:10000019-1741440600-1741442400@orcffi.org
SUMMARY:Casting Classes Saturday March 8th - CD-SH-S4
DESCRIPTION:Location: Casting Lane 1Class Number: CD-SH-S4Number of students: 1Instructor: James Gruetzman \n\n 
URL:https://orcffi.org/event/casting-classes-saturday-march-8th-cd-sh-s4/
LOCATION:Casting Lane 1
CATEGORIES:Placeholder Event
END:VEVENT
BEGIN:VEVENT
DTSTART;TZID=America/Denver:20250308T130000
DTEND;TZID=America/Denver:20250308T140000
DTSTAMP:20260421T100317
CREATED:20250124T175400Z
LAST-MODIFIED:20250128T164810Z
UID:10000029-1741438800-1741442400@orcffi.org
SUMMARY:Casting Classes Saturday March 8th - CD-SP-S4
DESCRIPTION:Location: Spey PondClass Number: CD-SP-S4Number of students: 2Instructor: Jon Connelly \n\n \n 
URL:https://orcffi.org/event/casting-classes-friday-march-7th-cd-sp-s4/
LOCATION:Spey Pond
CATEGORIES:Placeholder Event
END:VEVENT
BEGIN:VEVENT
DTSTART;TZID=America/Denver:20250308T130000
DTEND;TZID=America/Denver:20250308T133000
DTSTAMP:20260421T100317
CREATED:20250124T174416Z
LAST-MODIFIED:20250128T164955Z
UID:10000018-1741438800-1741440600@orcffi.org
SUMMARY:Casting Classes Saturday March 8th - CD-SH-S3
DESCRIPTION:Location: Casting Lane 1Class Number: CD-SH-S3Number of students: 1Instructor: James Gruetzman \n\n 
URL:https://orcffi.org/event/casting-classes-saturday-march-8th-cd-sh-s3/
LOCATION:Casting Lane 1
CATEGORIES:Placeholder Event
END:VEVENT
BEGIN:VEVENT
DTSTART;TZID=America/Denver:20250308T120000
DTEND;TZID=America/Denver:20250308T130000
DTSTAMP:20260421T100317
CREATED:20250124T175231Z
LAST-MODIFIED:20250128T165149Z
UID:10000028-1741435200-1741438800@orcffi.org
SUMMARY:Casting Classes Saturday March 8th - CD-SP-S3
DESCRIPTION:Location: Spey PondClass Number: CD-SP-S3Number of students: 2Instructor: Jon Connelly \n\n \n 
URL:https://orcffi.org/event/casting-classes-friday-march-7th-cd-sp-s3/
LOCATION:Spey Pond
CATEGORIES:Placeholder Event
END:VEVENT
BEGIN:VEVENT
DTSTART;TZID=America/Denver:20250308T113000
DTEND;TZID=America/Denver:20250308T130000
DTSTAMP:20260421T100317
CREATED:20250201T025415Z
LAST-MODIFIED:20250226T232434Z
UID:10000039-1741433400-1741438800@orcffi.org
SUMMARY:Classroom Classes
DESCRIPTION:Workshop – Fishing Still Waters \nFriday March 8th – Class #S22 \nNumber of students: 40\nInstructor: Marc Willaimson \nMarc will review the components of still water from my presentation of Reading Still Water\, but go into depth on the techniques\, equipment and skills needed to be successful. In this presentation I will share techniques I have learned to help you become a successful still water angler. I will share information that has provided me with the success I have in still water. We are going to discuss locations mentioned in Reading Stillwater and how to fish them
URL:https://orcffi.org/event/classroom-classes-9/
LOCATION:Classroom 2
CATEGORIES:Placeholder Event
END:VEVENT
BEGIN:VEVENT
DTSTART;TZID=America/Denver:20250308T113000
DTEND;TZID=America/Denver:20250308T130000
DTSTAMP:20260421T100317
CREATED:20250201T025044Z
LAST-MODIFIED:20250201T025044Z
UID:10000037-1741433400-1741438800@orcffi.org
SUMMARY:Classroom Classes
DESCRIPTION:Fly Fishers International Woman Connect \nAll Woman Fly Fishers \nWelcome Ladies\, Come in & Join the Fun – \nLunch Snacks Served Class #S12 \nNumber of students: 40\nInstructor: Cabdace Bell
URL:https://orcffi.org/event/classroom-classes-7/
LOCATION:Classroom 1
CATEGORIES:Placeholder Event
END:VEVENT
BEGIN:VEVENT
DTSTART;TZID=America/Denver:20250308T110000
DTEND;TZID=America/Denver:20250308T120000
DTSTAMP:20260421T100317
CREATED:20250124T175149Z
LAST-MODIFIED:20250128T165246Z
UID:10000027-1741431600-1741435200@orcffi.org
SUMMARY:Casting Classes Saturday March 8th - CD-SP-S2
DESCRIPTION:Location: Spey PondClass Number: CD-SP-S2Number of students: 3Instructor: Al Buhr \n\n \n 
URL:https://orcffi.org/event/casting-classes-friday-march-7th-cd-sp-s2/
LOCATION:Spey Pond
CATEGORIES:Placeholder Event
END:VEVENT
BEGIN:VEVENT
DTSTART;TZID=America/Denver:20250308T110000
DTEND;TZID=America/Denver:20250308T113000
DTSTAMP:20260421T100317
CREATED:20250124T174414Z
LAST-MODIFIED:20250128T165337Z
UID:10000017-1741431600-1741433400@orcffi.org
SUMMARY:Casting Classes Saturday March 8th - CD-SH-S2
DESCRIPTION:Location: Casting Lane 1Class Number: CD-SH-S2Number of students: 1Instructor: Dwight Klemin \n\n 
URL:https://orcffi.org/event/casting-classes-saturday-march-8th-cd-sh-s2/
LOCATION:Casting Lane 1
CATEGORIES:Placeholder Event
END:VEVENT
BEGIN:VEVENT
DTSTART;TZID=America/Denver:20250308T103000
DTEND;TZID=America/Denver:20250308T110000
DTSTAMP:20260421T100317
CREATED:20250124T174001Z
LAST-MODIFIED:20250128T165512Z
UID:10000016-1741429800-1741431600@orcffi.org
SUMMARY:Casting Classes Saturday March 8th - CD-SH-S1
DESCRIPTION:Location: Casting Lane 1Class Number: CD-SH-S1Number of students: 1Instructor: Dwight Klemin \n\n 
URL:https://orcffi.org/event/casting-classes-saturday-march-8th-cd-sh-s1/
LOCATION:Casting Lane 1
CATEGORIES:Placeholder Event
END:VEVENT
BEGIN:VEVENT
DTSTART;TZID=America/Denver:20250308T100000
DTEND;TZID=America/Denver:20250308T120000
DTSTAMP:20260421T100317
CREATED:20250222T032915Z
LAST-MODIFIED:20250222T032915Z
UID:10000042-1741428000-1741435200@orcffi.org
SUMMARY:Classroom Classes
DESCRIPTION:Classroom 3\nWorkshop – Dry Fly Tying Workshop -Small Flies\, New Patterns & More\nInstructor: Mark McKenzie\nGet Tickets $15.00  6 tickets \nLocation: Casting Lawn Area Class Number: SH-SP-S1 Number of students: 4 Instructor: Dwight Klemin\nSingle Hand Spey Cast – Learn the 4 basic spey casts. Casting skill needed is a solid dynamic roll cast. Equipment provided. Meet instructor at the casting Booth #45
URL:https://orcffi.org/event/classroom-classes-12/
END:VEVENT
BEGIN:VEVENT
DTSTART;TZID=America/Denver:20250308T100000
DTEND;TZID=America/Denver:20250308T110000
DTSTAMP:20260421T100317
CREATED:20250124T174605Z
LAST-MODIFIED:20250128T165602Z
UID:10000022-1741428000-1741431600@orcffi.org
SUMMARY:Casting Classes Saturday March 8th - CD-SP-S1
DESCRIPTION:Location: Spey PondClass Number: CD-SP-S1Number of students: 3Instructor: Al Buhr \n\n \n 
URL:https://orcffi.org/event/casting-classes-friday-march-7th-cd-sp-s1/
LOCATION:Spey Pond
CATEGORIES:Placeholder Event
END:VEVENT
BEGIN:VEVENT
DTSTART;TZID=America/Denver:20250308T093000
DTEND;TZID=America/Denver:20250308T110000
DTSTAMP:20260421T100317
CREATED:20250201T024827Z
LAST-MODIFIED:20250201T024827Z
UID:10000036-1741426200-1741431600@orcffi.org
SUMMARY:Classroom Classes
DESCRIPTION:Deschutes River Alliance Film Last 100 Miles \nFriday March 8th – Class # S11 \nNumber of students: 40\nInstructor: Peter Anderson
URL:https://orcffi.org/event/classroom-classes-6/
LOCATION:Classroom 1
CATEGORIES:Placeholder Event
END:VEVENT
BEGIN:VEVENT
DTSTART;TZID=America/Denver:20250307T170000
DTEND;TZID=America/Denver:20250307T210000
DTSTAMP:20260421T100317
CREATED:20240528T065455Z
LAST-MODIFIED:20241230T223748Z
UID:10000002-1741366800-1741381200@orcffi.org
SUMMARY:Banquet and Auction Fundraiser
DESCRIPTION:Sponsored by Oregon Council – Thank you for all your support \n$10.00 \n \nDownload PDF
URL:https://orcffi.org/event/banquet-and-auction-fundraiser/
LOCATION:Linn County Expo Center (Food Court)
CATEGORIES:Event
ATTACH;FMTTYPE=image/webp:https://orcffi.org/wp-content/uploads/2024/05/jacopettis-slide-3-jpeg-1.webp
END:VEVENT
BEGIN:VEVENT
DTSTART;TZID=America/Denver:20250307T153000
DTEND;TZID=America/Denver:20250307T160000
DTSTAMP:20260421T100317
CREATED:20250124T173055Z
LAST-MODIFIED:20250128T165707Z
UID:10000010-1741361400-1741363200@orcffi.org
SUMMARY:Casting Classes Friday March 7th - CD-SH-F6
DESCRIPTION:Location: Casting Lane 1Class Number: CD-SH-F6Number of students: 1Instructor: Jon Connelly \n\n \n 
URL:https://orcffi.org/event/casting-classes-friday-march-7th-cd-sh-f6/
LOCATION:Casting Lane 1
CATEGORIES:Placeholder Event
END:VEVENT
BEGIN:VEVENT
DTSTART;TZID=America/Denver:20250307T150000
DTEND;TZID=America/Denver:20250307T153000
DTSTAMP:20260421T100317
CREATED:20250124T172957Z
LAST-MODIFIED:20250128T165756Z
UID:10000009-1741359600-1741361400@orcffi.org
SUMMARY:Casting Classes Friday March 7th - CD-SH-F5
DESCRIPTION:Location: Casting Lane 1Class Number: CD-SH-F5Number of students: 1Instructor: Jon Connelly \n\n \n 
URL:https://orcffi.org/event/casting-classes-friday-march-7th-cd-sh-f5/
LOCATION:Casting Lane 1
CATEGORIES:Placeholder Event
END:VEVENT
BEGIN:VEVENT
DTSTART;TZID=America/Denver:20250307T140000
DTEND;TZID=America/Denver:20250307T160000
DTSTAMP:20260421T100317
CREATED:20250124T173719Z
LAST-MODIFIED:20250128T165843Z
UID:10000015-1741356000-1741363200@orcffi.org
SUMMARY:Casting Classes Friday March 7th - SH-SP F1
DESCRIPTION:Location: Casting Lawn AreaClass Number: SH-SP F1Number of students: 4Instructor: Dwight Klemin \n\n \n 
URL:https://orcffi.org/event/casting-classes-friday-march-7th-sh-sp-f1/
LOCATION:Casting Lawn Area
CATEGORIES:Placeholder Event
END:VEVENT
END:VCALENDAR